BEGIN:VCALENDAR
VERSION:2.0
PRODID:-//kyohatsu//JP
CALSCALE:GREGORIAN
BEGIN:VEVENT
DTSTART;VALUE=DATE:20260527
SUMMARY:わたしにプールは狭すぎた！　1
DESCRIPTION:ヒビキさん 芳文社
UID:9784832297258@kyohatsu.lb-product.com
END:VEVENT
END:VCALENDAR
