BEGIN:VCALENDAR
VERSION:2.0
PRODID:-//kyohatsu//JP
CALSCALE:GREGORIAN
BEGIN:VEVENT
DTSTART;VALUE=DATE:20260626
SUMMARY:タイトル未定
DESCRIPTION:ヒカベベ (株)竹書房
UID:4985914431002@kyohatsu.lb-product.com
END:VEVENT
END:VCALENDAR
