BEGIN:VCALENDAR
VERSION:2.0
PRODID:-//kyohatsu//JP
CALSCALE:GREGORIAN
BEGIN:VEVENT
DTSTART;VALUE=DATE:20260707
SUMMARY:IDOL OF POP/タイトル未定
DESCRIPTION:パンダドラゴン ユニバーサルミュージック
UID:4988031881200@kyohatsu.lb-product.com
END:VEVENT
BEGIN:VEVENT
DTSTART;VALUE=DATE:20260707
SUMMARY:IDOL OF POP/タイトル未定
DESCRIPTION:パンダドラゴン ユニバーサルミュージック
UID:4988031881194@kyohatsu.lb-product.com
END:VEVENT
BEGIN:VEVENT
DTSTART;VALUE=DATE:20260707
SUMMARY:IDOL OF POP/タイトル未定
DESCRIPTION:パンダドラゴン ユニバーサルミュージック
UID:4988031881224@kyohatsu.lb-product.com
END:VEVENT
BEGIN:VEVENT
DTSTART;VALUE=DATE:20260707
SUMMARY:IDOL OF POP/タイトル未定
DESCRIPTION:パンダドラゴン ユニバーサルミュージック
UID:4988031881217@kyohatsu.lb-product.com
END:VEVENT
BEGIN:VEVENT
DTSTART;VALUE=DATE:20260707
SUMMARY:IDOL OF POP/タイトル未定
DESCRIPTION:パンダドラゴン ユニバーサルミュージック
UID:4988031881231@kyohatsu.lb-product.com
END:VEVENT
BEGIN:VEVENT
DTSTART;VALUE=DATE:20260707
SUMMARY:IDOL OF POP/タイトル未定
DESCRIPTION:パンダドラゴン ユニバーサルミュージック
UID:4988031881248@kyohatsu.lb-product.com
END:VEVENT
END:VCALENDAR
