BEGIN:VCALENDAR
VERSION:2.0
PRODID:-//kyohatsu//JP
CALSCALE:GREGORIAN
BEGIN:VEVENT
DTSTART;VALUE=DATE:20260717
SUMMARY:【輸入盤】ハム・オブ・ハート（ファイア・アンド・ブリムストーン）（アナログ盤）
DESCRIPTION:ハム・オブ・ハート（ファイア・アンド・ブリムストーン） 
UID:0641956287598@kyohatsu.lb-product.com
END:VEVENT
END:VCALENDAR
