BEGIN:VCALENDAR
VERSION:2.0
PRODID:-//kyohatsu//JP
CALSCALE:GREGORIAN
BEGIN:VEVENT
DTSTART;VALUE=DATE:20260623
SUMMARY:焼いてるふたり（24）
DESCRIPTION:ハナツカ シオリ 講談社
UID:9784065436561@kyohatsu.lb-product.com
END:VEVENT
END:VCALENDAR
