BEGIN:VCALENDAR
VERSION:2.0
PRODID:-//kyohatsu//JP
CALSCALE:GREGORIAN
BEGIN:VEVENT
DTSTART;VALUE=DATE:20260618
SUMMARY:ハボウの轍 6 〜公安調査庁調査官・土師空也〜
DESCRIPTION:ナガテ ユカ 集英社
UID:9784088942896@kyohatsu.lb-product.com
END:VEVENT
END:VCALENDAR
