BEGIN:VCALENDAR
VERSION:2.0
PRODID:-//kyohatsu//JP
CALSCALE:GREGORIAN
BEGIN:VEVENT
DTSTART;VALUE=DATE:20260610
SUMMARY:ターン・アウト・ザ・スターズ
DESCRIPTION:トーマス・クラウセン〜セヴェリ・ピーサロ SOLID、STORYVILLE
UID:4526180759386@kyohatsu.lb-product.com
END:VEVENT
END:VCALENDAR
