BEGIN:VCALENDAR
VERSION:2.0
PRODID:-//kyohatsu//JP
CALSCALE:GREGORIAN
BEGIN:VEVENT
DTSTART;VALUE=DATE:20260525
SUMMARY:時の大地
DESCRIPTION:トリオン BELLE ANTIQUE
UID:4524505357538@kyohatsu.lb-product.com
END:VEVENT
END:VCALENDAR
