BEGIN:VCALENDAR
VERSION:2.0
PRODID:-//kyohatsu//JP
CALSCALE:GREGORIAN
BEGIN:VEVENT
DTSTART;VALUE=DATE:20260819
SUMMARY:【先着特典】棘アリ【完全生産限定アナログレコード盤】(「棘アリ」レコードジャケット絵柄ステッカー)
DESCRIPTION:トゲナシトゲアリ ユニバーサルミュージック
UID:4988031862421@kyohatsu.lb-product.com
END:VEVENT
BEGIN:VEVENT
DTSTART;VALUE=DATE:20260819
SUMMARY:【先着特典】棘ナシ【完全生産限定アナログレコード盤】(「棘ナシ」レコードジャケット絵柄ステッカー)
DESCRIPTION:トゲナシトゲアリ ユニバーサルミュージック
UID:4988031862438@kyohatsu.lb-product.com
END:VEVENT
END:VCALENDAR
