BEGIN:VCALENDAR
VERSION:2.0
PRODID:-//kyohatsu//JP
CALSCALE:GREGORIAN
BEGIN:VEVENT
DTSTART;VALUE=DATE:20260625
SUMMARY:キャロル・リード
DESCRIPTION:デヴィッド・ニーヴン 
UID:4988182114585@kyohatsu.lb-product.com
END:VEVENT
END:VCALENDAR
