BEGIN:VCALENDAR
VERSION:2.0
PRODID:-//kyohatsu//JP
CALSCALE:GREGORIAN
BEGIN:VEVENT
DTSTART;VALUE=DATE:20260610
SUMMARY:ワン・フォー・ザ・ライブラリー
DESCRIPTION:デューク・ジョーダン SOLID、STORYVILLE
UID:4526180759379@kyohatsu.lb-product.com
END:VEVENT
END:VCALENDAR
