BEGIN:VCALENDAR
VERSION:2.0
PRODID:-//kyohatsu//JP
CALSCALE:GREGORIAN
BEGIN:VEVENT
DTSTART;VALUE=DATE:20260610
SUMMARY:ダブル・エッジ
DESCRIPTION:デイヴ・リーブマン〜リッチー・バイラーク SOLID、STORYVILLE
UID:4526180759331@kyohatsu.lb-product.com
END:VEVENT
END:VCALENDAR
