BEGIN:VCALENDAR
VERSION:2.0
PRODID:-//kyohatsu//JP
CALSCALE:GREGORIAN
BEGIN:VEVENT
DTSTART;VALUE=DATE:20260715
SUMMARY:SUPREME DOUBLES
DESCRIPTION:テニプリ“D"オールスターズ (株)ドリーミュージックパブリッシング
UID:4595056506447@kyohatsu.lb-product.com
END:VEVENT
BEGIN:VEVENT
DTSTART;VALUE=DATE:20260715
SUMMARY:SUPREME DOUBLES
DESCRIPTION:テニプリ“D"オールスターズ (株)ドリーミュージックパブリッシング
UID:4595056506423@kyohatsu.lb-product.com
END:VEVENT
BEGIN:VEVENT
DTSTART;VALUE=DATE:20260715
SUMMARY:SUPREME DOUBLES
DESCRIPTION:テニプリ“D"オールスターズ (株)ドリーミュージックパブリッシング
UID:4595056506461@kyohatsu.lb-product.com
END:VEVENT
BEGIN:VEVENT
DTSTART;VALUE=DATE:20260715
SUMMARY:SUPREME DOUBLES
DESCRIPTION:テニプリ“D"オールスターズ (株)ドリーミュージックパブリッシング
UID:4595056506454@kyohatsu.lb-product.com
END:VEVENT
BEGIN:VEVENT
DTSTART;VALUE=DATE:20260715
SUMMARY:SUPREME DOUBLES
DESCRIPTION:テニプリ“D"オールスターズ (株)ドリーミュージックパブリッシング
UID:4595056506430@kyohatsu.lb-product.com
END:VEVENT
BEGIN:VEVENT
DTSTART;VALUE=DATE:20260715
SUMMARY:SUPREME DOUBLES
DESCRIPTION:テニプリ“D"オールスターズ (株)ドリーミュージックパブリッシング
UID:4595056506485@kyohatsu.lb-product.com
END:VEVENT
BEGIN:VEVENT
DTSTART;VALUE=DATE:20260715
SUMMARY:SUPREME DOUBLES
DESCRIPTION:テニプリ“D"オールスターズ (株)ドリーミュージックパブリッシング
UID:4595056506478@kyohatsu.lb-product.com
END:VEVENT
END:VCALENDAR
