BEGIN:VCALENDAR
VERSION:2.0
PRODID:-//kyohatsu//JP
CALSCALE:GREGORIAN
BEGIN:VEVENT
DTSTART;VALUE=DATE:20260710
SUMMARY:【輸入盤】ティアーズ・オン・テープ
DESCRIPTION:ティアーズ・オン・テープ 
UID:4099964234404@kyohatsu.lb-product.com
END:VEVENT
END:VCALENDAR
