BEGIN:VCALENDAR
VERSION:2.0
PRODID:-//kyohatsu//JP
CALSCALE:GREGORIAN
BEGIN:VEVENT
DTSTART;VALUE=DATE:20260507
SUMMARY:にぎっちゃだめ！
DESCRIPTION:チョー ヒカル 白泉社
UID:9784592763895@kyohatsu.lb-product.com
END:VEVENT
END:VCALENDAR
