BEGIN:VCALENDAR
VERSION:2.0
PRODID:-//kyohatsu//JP
CALSCALE:GREGORIAN
BEGIN:VEVENT
DTSTART;VALUE=DATE:20260729
SUMMARY:ワールプール【アナログ盤】
DESCRIPTION:チャプターハウス (株)ソニー・ミュージックレーベルズ
UID:4547366817294@kyohatsu.lb-product.com
END:VEVENT
END:VCALENDAR
