BEGIN:VCALENDAR
VERSION:2.0
PRODID:-//kyohatsu//JP
CALSCALE:GREGORIAN
BEGIN:VEVENT
DTSTART;VALUE=DATE:20260617
SUMMARY:セクト・マニアックス:ザ・コンプリート・シックスティーズ・セッションズ
DESCRIPTION:ダウンライナーズ・セクト SOLID、CHERRY RED
UID:4526180760160@kyohatsu.lb-product.com
END:VEVENT
END:VCALENDAR
