BEGIN:VCALENDAR
VERSION:2.0
PRODID:-//kyohatsu//JP
CALSCALE:GREGORIAN
BEGIN:VEVENT
DTSTART;VALUE=DATE:20260615
SUMMARY:アスファルトに赤（上）
DESCRIPTION:タナカ　ミホ ヒーローズ
UID:9784868051961@kyohatsu.lb-product.com
END:VEVENT
BEGIN:VEVENT
DTSTART;VALUE=DATE:20260615
SUMMARY:アスファルトに赤（下）
DESCRIPTION:タナカ　ミホ ヒーローズ
UID:9784868051978@kyohatsu.lb-product.com
END:VEVENT
END:VCALENDAR
