BEGIN:VCALENDAR
VERSION:2.0
PRODID:-//kyohatsu//JP
CALSCALE:GREGORIAN
BEGIN:VEVENT
DTSTART;VALUE=DATE:20260520
SUMMARY:【楽天ブックス限定デジタル特典】陽と月(スマホ壁紙 ダウンロード)
DESCRIPTION:タナカ　ヒロキ(LEGO BIG MORL) KADOKAWA
UID:9784048979498@kyohatsu.lb-product.com
END:VEVENT
END:VCALENDAR
