BEGIN:VCALENDAR
VERSION:2.0
PRODID:-//kyohatsu//JP
CALSCALE:GREGORIAN
BEGIN:VEVENT
DTSTART;VALUE=DATE:20260527
SUMMARY:戦中派と缶チューハイ
DESCRIPTION:タケダ2000GT 虹霓社
UID:9784911626023@kyohatsu.lb-product.com
END:VEVENT
END:VCALENDAR
