BEGIN:VCALENDAR
VERSION:2.0
PRODID:-//kyohatsu//JP
CALSCALE:GREGORIAN
BEGIN:VEVENT
DTSTART;VALUE=DATE:20260605
SUMMARY:アイズ・フル
DESCRIPTION:ゾー・アンバ BEAT RECORDS、MATADOR
UID:4582616195463@kyohatsu.lb-product.com
END:VEVENT
END:VCALENDAR
