BEGIN:VCALENDAR
VERSION:2.0
PRODID:-//kyohatsu//JP
CALSCALE:GREGORIAN
BEGIN:VEVENT
DTSTART;VALUE=DATE:20260524
SUMMARY:アフリカの声
DESCRIPTION:ソリ・カンジャ・クヤテ ライス・レコード
UID:4582136084476@kyohatsu.lb-product.com
END:VEVENT
END:VCALENDAR
