BEGIN:VCALENDAR
VERSION:2.0
PRODID:-//kyohatsu//JP
CALSCALE:GREGORIAN
BEGIN:VEVENT
DTSTART;VALUE=DATE:20260527
SUMMARY:ストーン・カントリー
DESCRIPTION:ストーン・カントリー ヴィヴィド・サウンド
UID:4540399326375@kyohatsu.lb-product.com
END:VEVENT
END:VCALENDAR
