BEGIN:VCALENDAR
VERSION:2.0
PRODID:-//kyohatsu//JP
CALSCALE:GREGORIAN
BEGIN:VEVENT
DTSTART;VALUE=DATE:20260515
SUMMARY:ロングウォーク
DESCRIPTION:スティーブンキング 扶桑社
UID:9784594102487@kyohatsu.lb-product.com
END:VEVENT
END:VCALENDAR
