BEGIN:VCALENDAR
VERSION:2.0
PRODID:-//kyohatsu//JP
CALSCALE:GREGORIAN
BEGIN:VEVENT
DTSTART;VALUE=DATE:20260527
SUMMARY:新幹線から見えたすき家にカレーを食べに行く
DESCRIPTION:スズキナオ 太田出版
UID:9784778341015@kyohatsu.lb-product.com
END:VEVENT
BEGIN:VEVENT
DTSTART;VALUE=DATE:20260527
SUMMARY:増補新版 深夜高速バスに100 回ぐらい乗ってわかったこと
DESCRIPTION:スズキナオ 太田出版
UID:9784778341022@kyohatsu.lb-product.com
END:VEVENT
END:VCALENDAR
