BEGIN:VCALENDAR
VERSION:2.0
PRODID:-//kyohatsu//JP
CALSCALE:GREGORIAN
BEGIN:VEVENT
DTSTART;VALUE=DATE:20260918
SUMMARY:アブソリュート・バットマン：ザ・ズー（第1巻）
DESCRIPTION:スコット・スナイダー フェーズシックス
UID:9784911348499@kyohatsu.lb-product.com
END:VEVENT
END:VCALENDAR
