BEGIN:VCALENDAR
VERSION:2.0
PRODID:-//kyohatsu//JP
CALSCALE:GREGORIAN
BEGIN:VEVENT
DTSTART;VALUE=DATE:20260916
SUMMARY:にじさんじ WORLD TOUR 2025 Singin’ in the Rainbow！広島公演(通常盤)【Blu-ray】
DESCRIPTION:ジョー・力一、周央サンゴ、壱百満天原サロメ、セラフ・ダズルガーデン、星導ショウ、栞葉るり ANYCOLOR(株)
UID:4573600263572@kyohatsu.lb-product.com
END:VEVENT
END:VCALENDAR
