BEGIN:VCALENDAR
VERSION:2.0
PRODID:-//kyohatsu//JP
CALSCALE:GREGORIAN
BEGIN:VEVENT
DTSTART;VALUE=DATE:20260605
SUMMARY:セカンド・ハンド・ライフ
DESCRIPTION:ジョー・リン・ターナー DEADLINE
UID:4526180758846@kyohatsu.lb-product.com
END:VEVENT
END:VCALENDAR
