BEGIN:VCALENDAR
VERSION:2.0
PRODID:-//kyohatsu//JP
CALSCALE:GREGORIAN
BEGIN:VEVENT
DTSTART;VALUE=DATE:20260727
SUMMARY:筋金を入れろ
DESCRIPTION:ジャン・ギャバン 
UID:4988182113717@kyohatsu.lb-product.com
END:VEVENT
END:VCALENDAR
