BEGIN:VCALENDAR
VERSION:2.0
PRODID:-//kyohatsu//JP
CALSCALE:GREGORIAN
BEGIN:VEVENT
DTSTART;VALUE=DATE:20260814
SUMMARY:サンシャイン
DESCRIPTION:ジャングル BEAT RECORDS、AWAL
UID:4523132166162@kyohatsu.lb-product.com
END:VEVENT
END:VCALENDAR
