BEGIN:VCALENDAR
VERSION:2.0
PRODID:-//kyohatsu//JP
CALSCALE:GREGORIAN
BEGIN:VEVENT
DTSTART;VALUE=DATE:20260708
SUMMARY:2024年のジャルジャル DVD-BOX ジャルジャルののじゃら＆ジャルジャルのはじゃら
DESCRIPTION:ジャルジャル (株)よしもとミュージック
UID:4571487598039@kyohatsu.lb-product.com
END:VEVENT
BEGIN:VEVENT
DTSTART;VALUE=DATE:20260708
SUMMARY:【楽天ブックス限定先着特典】2024年のジャルジャル DVD-BOX ジャルジャルののじゃら＆ジャルジャルのはじゃら(2024のジャルジャルトレカ(楽天ブックスver.))
DESCRIPTION:ジャルジャル (株)よしもとミュージック
UID:2100014948102@kyohatsu.lb-product.com
END:VEVENT
END:VCALENDAR
