BEGIN:VCALENDAR
VERSION:2.0
PRODID:-//kyohatsu//JP
CALSCALE:GREGORIAN
BEGIN:VEVENT
DTSTART;VALUE=DATE:20260729
SUMMARY:ジャミロクワイ【アナログ盤】
DESCRIPTION:ジャミロクワイ (株)ソニー・ミュージックレーベルズ
UID:4547366817249@kyohatsu.lb-product.com
END:VEVENT
BEGIN:VEVENT
DTSTART;VALUE=DATE:20260729
SUMMARY:トラベリング・ウィズアウト・ムーヴィング【アナログ盤】
DESCRIPTION:ジャミロクワイ (株)ソニー・ミュージックレーベルズ
UID:4547366817263@kyohatsu.lb-product.com
END:VEVENT
BEGIN:VEVENT
DTSTART;VALUE=DATE:20260729
SUMMARY:スペース・カウボーイの逆襲【アナログ盤】
DESCRIPTION:ジャミロクワイ (株)ソニー・ミュージックレーベルズ
UID:4547366817256@kyohatsu.lb-product.com
END:VEVENT
END:VCALENDAR
