BEGIN:VCALENDAR
VERSION:2.0
PRODID:-//kyohatsu//JP
CALSCALE:GREGORIAN
BEGIN:VEVENT
DTSTART;VALUE=DATE:20260509
SUMMARY:Go Ahead
DESCRIPTION:ジャッキー・ウー 論創社
UID:9784846025663@kyohatsu.lb-product.com
END:VEVENT
END:VCALENDAR
