BEGIN:VCALENDAR
VERSION:2.0
PRODID:-//kyohatsu//JP
CALSCALE:GREGORIAN
BEGIN:VEVENT
DTSTART;VALUE=DATE:20260624
SUMMARY:わいばっかい(ONLY YOU)
DESCRIPTION:ジミー入枝 DOOWOP RECORDINGS
UID:4580883790237@kyohatsu.lb-product.com
END:VEVENT
END:VCALENDAR
