BEGIN:VCALENDAR
VERSION:2.0
PRODID:-//kyohatsu//JP
CALSCALE:GREGORIAN
BEGIN:VEVENT
DTSTART;VALUE=DATE:20260708
SUMMARY:カーム・シーズ
DESCRIPTION:ジェイク・シマブクロ (株)ソニー・ミュージックレーベルズ
UID:4547366822168@kyohatsu.lb-product.com
END:VEVENT
END:VCALENDAR
