BEGIN:VCALENDAR
VERSION:2.0
PRODID:-//kyohatsu//JP
CALSCALE:GREGORIAN
BEGIN:VEVENT
DTSTART;VALUE=DATE:20260609
SUMMARY:さわらないで小手指くん（16）
DESCRIPTION:シンジョウ タクヤ 講談社
UID:9784065439227@kyohatsu.lb-product.com
END:VEVENT
END:VCALENDAR
