BEGIN:VCALENDAR
VERSION:2.0
PRODID:-//kyohatsu//JP
CALSCALE:GREGORIAN
BEGIN:VEVENT
DTSTART;VALUE=DATE:20260601
SUMMARY:俺のこと、好きにならないでね。(2)
DESCRIPTION:シリ崎 ジーオーティー
UID:9784823610738@kyohatsu.lb-product.com
END:VEVENT
END:VCALENDAR
