BEGIN:VCALENDAR
VERSION:2.0
PRODID:-//kyohatsu//JP
CALSCALE:GREGORIAN
BEGIN:VEVENT
DTSTART;VALUE=DATE:20260722
SUMMARY:BORDERLESS【アナログ盤】
DESCRIPTION:シャーリー・カーン Sad Disco
UID:4988044138087@kyohatsu.lb-product.com
END:VEVENT
BEGIN:VEVENT
DTSTART;VALUE=DATE:20260722
SUMMARY:BORDERLESS
DESCRIPTION:シャーリー・カーン Sad Disco
UID:4988044138070@kyohatsu.lb-product.com
END:VEVENT
END:VCALENDAR
