BEGIN:VCALENDAR
VERSION:2.0
PRODID:-//kyohatsu//JP
CALSCALE:GREGORIAN
BEGIN:VEVENT
DTSTART;VALUE=DATE:20260612
SUMMARY:フォー・デイズ・イン・ジューン
DESCRIPTION:シャバソン&ケルゴヴィッチ 7 e.p.
UID:4582561407505@kyohatsu.lb-product.com
END:VEVENT
END:VCALENDAR
