BEGIN:VCALENDAR
VERSION:2.0
PRODID:-//kyohatsu//JP
CALSCALE:GREGORIAN
BEGIN:VEVENT
DTSTART;VALUE=DATE:20260603
SUMMARY:Commonplace
DESCRIPTION:シャッポ カクバリズム
UID:4543034054275@kyohatsu.lb-product.com
END:VEVENT
END:VCALENDAR
