BEGIN:VCALENDAR
VERSION:2.0
PRODID:-//kyohatsu//JP
CALSCALE:GREGORIAN
BEGIN:VEVENT
DTSTART;VALUE=DATE:20260527
SUMMARY:新・エルフさんは痩せられない。　6
DESCRIPTION:シネクドキ 秋田書店
UID:9784253013178@kyohatsu.lb-product.com
END:VEVENT
END:VCALENDAR
