BEGIN:VCALENDAR
VERSION:2.0
PRODID:-//kyohatsu//JP
CALSCALE:GREGORIAN
BEGIN:VEVENT
DTSTART;VALUE=DATE:20260525
SUMMARY:ヤング・メン・ゴーン・ウェスト/ブック・アーリー:イクスパンディド 2CD エディション
DESCRIPTION:シティ・ボーイ BELLE ANTIQUE
UID:4524505357521@kyohatsu.lb-product.com
END:VEVENT
END:VCALENDAR
