BEGIN:VCALENDAR
VERSION:2.0
PRODID:-//kyohatsu//JP
CALSCALE:GREGORIAN
BEGIN:VEVENT
DTSTART;VALUE=DATE:20260617
SUMMARY:ウィスパー・イン・ユア・イヤー/ザ・ウィスパーズ/イマジネーション
DESCRIPTION:ザ・ウィスパーズ SOLID、CHERRY RED
UID:4526180760009@kyohatsu.lb-product.com
END:VEVENT
END:VCALENDAR
