BEGIN:VCALENDAR
VERSION:2.0
PRODID:-//kyohatsu//JP
CALSCALE:GREGORIAN
BEGIN:VEVENT
DTSTART;VALUE=DATE:20260729
SUMMARY:テレビまんが「ドラゴンボール」音楽集〜テレビ・オリジナル・サウンドトラック〜（クリアオレンジヴァイナル）【アナログ盤】
DESCRIPTION:サントラ 
UID:4549767368368@kyohatsu.lb-product.com
END:VEVENT
END:VCALENDAR
