BEGIN:VCALENDAR
VERSION:2.0
PRODID:-//kyohatsu//JP
CALSCALE:GREGORIAN
BEGIN:VEVENT
DTSTART;VALUE=DATE:20260729
SUMMARY:サディスティック・ミカ・バンド　（100％　Pure　LP）（1，000枚限定生産盤）【アナログ盤】
DESCRIPTION:サディスティック・ミカ・バンド 
UID:4988031859827@kyohatsu.lb-product.com
END:VEVENT
BEGIN:VEVENT
DTSTART;VALUE=DATE:20260729
SUMMARY:黒船　（100％　Pure　LP）（1，000枚限定生産盤）【アナログ盤】
DESCRIPTION:サディスティック・ミカ・バンド 
UID:4988031859346@kyohatsu.lb-product.com
END:VEVENT
END:VCALENDAR
