BEGIN:VCALENDAR
VERSION:2.0
PRODID:-//kyohatsu//JP
CALSCALE:GREGORIAN
BEGIN:VEVENT
DTSTART;VALUE=DATE:20260522
SUMMARY:あかつきのヒマリとくま　2
DESCRIPTION:サカイ　タカヒロ KADOKAWA
UID:9784046601100@kyohatsu.lb-product.com
END:VEVENT
END:VCALENDAR
