BEGIN:VCALENDAR
VERSION:2.0
PRODID:-//kyohatsu//JP
CALSCALE:GREGORIAN
BEGIN:VEVENT
DTSTART;VALUE=DATE:20260605
SUMMARY:レクイエム・フォー・ア・パイプ・ドリーム
DESCRIPTION:サイラ (株)ワードレコーズ
UID:4571614703664@kyohatsu.lb-product.com
END:VEVENT
END:VCALENDAR
