BEGIN:VCALENDAR
VERSION:2.0
PRODID:-//kyohatsu//JP
CALSCALE:GREGORIAN
BEGIN:VEVENT
DTSTART;VALUE=DATE:20260605
SUMMARY:逆襲のサイケアウツ:ベスト・カッツ 1995-2000
DESCRIPTION:サイケアウツ EM RECORDS
UID:4560283215912@kyohatsu.lb-product.com
END:VEVENT
END:VCALENDAR
