BEGIN:VCALENDAR
VERSION:2.0
PRODID:-//kyohatsu//JP
CALSCALE:GREGORIAN
BEGIN:VEVENT
DTSTART;VALUE=DATE:20260522
SUMMARY:ファイト・オン!:トゥルー・ブルース vol.2
DESCRIPTION:コリー・ハリス、アルヴィン・ヤングブラッド・ハート、ガイ・デイヴィス BSMF RECORDS
UID:4546266223761@kyohatsu.lb-product.com
END:VEVENT
END:VCALENDAR
