BEGIN:VCALENDAR
VERSION:2.0
PRODID:-//kyohatsu//JP
CALSCALE:GREGORIAN
BEGIN:VEVENT
DTSTART;VALUE=DATE:20260624
SUMMARY:ロス
DESCRIPTION:ゲリア (株)ソニー・ミュージックレーベルズ
UID:4547366822205@kyohatsu.lb-product.com
END:VEVENT
END:VCALENDAR
